BEGIN:VCALENDAR
VERSION:2.0
PRODID:-//Ὀρθόδοξοι Χριστιανικαί Ἐνώσεις - ECPv6.3.5//NONSGML v1.0//EN
CALSCALE:GREGORIAN
METHOD:PUBLISH
X-WR-CALNAME:Ὀρθόδοξοι Χριστιανικαί Ἐνώσεις
X-ORIGINAL-URL:https://oxek.gr
X-WR-CALDESC:Ὀρθόδοξοι Χριστιανικαί Ἐνώσεις - Εκδηλώσεις
REFRESH-INTERVAL;VALUE=DURATION:PT1H
X-Robots-Tag:noindex
X-PUBLISHED-TTL:PT1H
BEGIN:VTIMEZONE
TZID:Europe/Helsinki
BEGIN:DAYLIGHT
TZOFFSETFROM:+0200
TZOFFSETTO:+0300
TZNAME:EEST
DTSTART:20240331T010000
END:DAYLIGHT
BEGIN:STANDARD
TZOFFSETFROM:+0300
TZOFFSETTO:+0200
TZNAME:EET
DTSTART:20241027T010000
END:STANDARD
END:VTIMEZONE
BEGIN:VEVENT
DTSTART;VALUE=DATE:20240211
DTEND;VALUE=DATE:20240212
DTSTAMP:20260421T183036
CREATED:20240219T101214Z
LAST-MODIFIED:20240223T180417Z
UID:156-1707609600-1707695999@oxek.gr
SUMMARY:Εκδήλωση για τον π. Μάρκο Τσακτάνη
DESCRIPTION:Στην αίθουσα των εκδηλώσεων των Ο.Χ.Ε. έγινε παρουσία φίλων και μελών των Ο.Χ.Ε εκδήλωση με θέμα “100 χρόνια από την κοίμηση του π.Μάρκου Τσακτάνη” που οργάνωσε η Χ.Ο.Φ.Ε. Έγινε αναφορά στον βίο του π. Μάρκου Τσακτάνη και προβολή φωτογραφικού υλικού. Μίλησε ο Πρόεδρος των Ο.Χ.Ε. π. Ηλίας Δροσινός. Παρέστη και ο Πρωτοσύγκελος της Ιεράς Αρχιεπισκοπής Αθηνών Πανοσολογιώτατος Αρχιμανδρίτης π. Βαρνάβας Θεοχάρης
URL:https://oxek.gr/event/%ce%b5%ce%ba%ce%b4%ce%ae%ce%bb%cf%89%cf%83%ce%b7-%ce%b3%ce%b9%ce%b1-%cf%84%ce%bf%ce%bd-%cf%80-%ce%bc%ce%ac%cf%81%ce%ba%ce%bf-%cf%84%cf%83%ce%b1%ce%ba%cf%84%ce%ac%ce%bd%ce%b7/
LOCATION:Κτήριο ΟΧΕ\, Σουλίου 3\, Αθήνα\, Αττική\, 10681\, Ελλάδα
CATEGORIES:Επετειακές Εκδηλώσεις
END:VEVENT
BEGIN:VEVENT
DTSTART;VALUE=DATE:20240204
DTEND;VALUE=DATE:20240205
DTSTAMP:20260421T183036
CREATED:20240219T123632Z
LAST-MODIFIED:20240606T181044Z
UID:182-1707004800-1707091199@oxek.gr
SUMMARY:Ομιλία με θέμα Λειτουργία\, Πίστη\, Μαρτυρία
DESCRIPTION:Το απόγευμα έγινε η καθιερωμένη Κυριακάτικη ομιλία των Ο.Χ.Ε. στην αίθουσα της οδού Σουλίου 3 από την  κ. Εύη Βουλγαράκη-Πισίνα\, Καθηγήτρια της Θεολογικής Σχολής ΕΚΠΑ με θέμα “Λειτουργία\, Πίστη\, Μαρτυρία“.
URL:https://oxek.gr/event/%ce%bf%ce%bc%ce%b9%ce%bb%ce%af%ce%b1-%ce%bc%ce%b5-%ce%b8%ce%ad%ce%bc%ce%b1-%ce%bb%ce%b5%ce%b9%cf%84%ce%bf%cf%85%cf%81%ce%b3%ce%af%ce%b1-%cf%80%ce%af%cf%83%cf%84%ce%b7-%ce%bc%ce%b1%cf%81%cf%84%cf%85/
LOCATION:Κτήριο ΟΧΕ\, Σουλίου 3\, Αθήνα\, Αττική\, 10681\, Ελλάδα
CATEGORIES:Κατηχητικά και Εκπαιδευτικά Προγράμματα
END:VEVENT
BEGIN:VEVENT
DTSTART;VALUE=DATE:20240204
DTEND;VALUE=DATE:20240205
DTSTAMP:20260421T183036
CREATED:20240219T123522Z
LAST-MODIFIED:20240220T114045Z
UID:180-1707004800-1707091199@oxek.gr
SUMMARY:Μνημόσυνο για τον ιδρυτή των κατηχητικών
DESCRIPTION:Το πρωί μετά τη Θ. Λειτουργία στον Ι.Ν. Ζωοδόχου Πηγής της οδού Ακαδημίας\, έγινε το μνημόσυνο για τα 100 έτη από την εκδημεία του π. Μάρκου Τσακτάνη ιδρυτού των κατηχητικών σχολείων.
URL:https://oxek.gr/event/%ce%bc%ce%bd%ce%b7%ce%bc%cf%8c%cf%83%cf%85%ce%bd%ce%bf-%ce%b3%ce%b9%ce%b1-%cf%84%ce%bf%ce%bd-%ce%b9%ce%b4%cf%81%cf%85%cf%84%ce%ae-%cf%84%cf%89%ce%bd-%ce%ba%ce%b1%cf%84%ce%b7%cf%87%ce%b7%cf%84%ce%b9/
CATEGORIES:Εκδηλώσεις και Συναντήσεις
END:VEVENT
BEGIN:VEVENT
DTSTART;VALUE=DATE:20240202
DTEND;VALUE=DATE:20240203
DTSTAMP:20260421T183036
CREATED:20240219T123401Z
LAST-MODIFIED:20240422T095215Z
UID:178-1706832000-1706918399@oxek.gr
SUMMARY:Λειτουργία για την Υπαπαντή
DESCRIPTION:Έγινε στον Ι.Ν. Αγίας Σκέπης στον Κολωνό Θεία Λειτουργία για την Υπαπαντή της Παναγίας από τον πρόεδρο των Ο.Χ.Ε π. Ηλία Δροσινό και από τον π. Γεώργιο. Ακολούθησε στην αίθουσα για τα παρευρισκόμενα μέλη των Ο.Χ.Ε τσάι-καφές και ταυτόχρονα ομιλία για την “Ορθόδοξη γιορτή της μητέρας” και αναφορά στην αείμνηστη Δέσποινα Δημητριάδου από την αντιπρόεδρο κ. Ηρώ Κιουμετζόγλου.
URL:https://oxek.gr/event/%ce%bb%ce%b5%ce%b9%cf%84%ce%bf%cf%85%cf%81%ce%b3%ce%af%ce%b1-%ce%b3%ce%b9%ce%b1-%cf%84%ce%b7%ce%bd-%cf%85%cf%80%ce%b1%cf%80%ce%b1%ce%bd%cf%84%ce%ae/
CATEGORIES:Επετειακές Εκδηλώσεις
END:VEVENT
BEGIN:VEVENT
DTSTART;VALUE=DATE:20240128
DTEND;VALUE=DATE:20240129
DTSTAMP:20260421T183036
CREATED:20240219T123258Z
LAST-MODIFIED:20240422T095128Z
UID:176-1706400000-1706486399@oxek.gr
SUMMARY:Κοπή της Αγιοβασιλόπιτας των Ο.Χ.Ε.
DESCRIPTION:Στη μεγάλη αίθουσα των Ο.Χ.Ε. παρουσία μελών και φίλων των Ο.Χ.Ε έγινε η κοπή της Αγιοβασιλόπιτας από τον Δεσπότη Βερινίκης Χρυσόστομο\, τον πρόεδρο των Ο.Χ.Ε. π. Ηλία Δροσινό και άλλων ιερέων. Μετά την κοπή της Βασιλόπιτας τραγούδησαν κάλαντα απ’ όλη την Ελλάδα χορωδία από νέους και νέες.
URL:https://oxek.gr/event/%ce%ba%ce%bf%cf%80%ce%ae-%cf%84%ce%b7%cf%82-%ce%b1%ce%b3%ce%b9%ce%bf%ce%b2%ce%b1%cf%83%ce%b9%ce%bb%cf%8c%cf%80%ce%b9%cf%84%ce%b1%cf%82-%cf%84%cf%89%ce%bd-%ce%bf-%cf%87-%ce%b5/
LOCATION:Κτήριο ΟΧΕ\, Σουλίου 3\, Αθήνα\, Αττική\, 10681\, Ελλάδα
CATEGORIES:Επετειακές Εκδηλώσεις
END:VEVENT
BEGIN:VEVENT
DTSTART;VALUE=DATE:20240122
DTEND;VALUE=DATE:20240123
DTSTAMP:20260421T183036
CREATED:20240219T123204Z
LAST-MODIFIED:20240422T095043Z
UID:174-1705881600-1705967999@oxek.gr
SUMMARY:Κοπή Αγιοβασιλόπιτας στο τμήμα Περιστερίου
DESCRIPTION:Στο τμήμα των Ο.Χ.Ε. Περιστερίου έγινε η κοπή της Αγιοβασιλόπιτας από τον επιχώριο Μητροπολίτη Περιστερίου Γρηγόριο\, από τον πρόεδρο των ΟΧΕ π. Ηλία και τον π. Κωνσταντίνο.
URL:https://oxek.gr/event/%ce%ba%ce%bf%cf%80%ce%ae-%ce%b1%ce%b3%ce%b9%ce%bf%ce%b2%ce%b1%cf%83%ce%b9%ce%bb%cf%8c%cf%80%ce%b9%cf%84%ce%b1%cf%82-%cf%83%cf%84%ce%bf-%cf%84%ce%bc%ce%ae%ce%bc%ce%b1-%cf%80%ce%b5%cf%81%ce%b9%cf%83/
CATEGORIES:Επετειακές Εκδηλώσεις
END:VEVENT
BEGIN:VEVENT
DTSTART;VALUE=DATE:20240121
DTEND;VALUE=DATE:20240122
DTSTAMP:20260421T183036
CREATED:20240219T123105Z
LAST-MODIFIED:20240606T180805Z
UID:172-1705795200-1705881599@oxek.gr
SUMMARY:Ομιλία κ. Μιλτιάδη Πάλλη
DESCRIPTION:Στη σημερινή Κυριακάτικη ομιλία στο κτίριο των ΟΧΕ της οδού Σουλίου ο κ. Μιλτιάδης Πάλλης\, Θεολόγος-Νομικός μίλησε με θέμα “Η Υπαπαντή μέσα από την υμνολογία της Εκκλησίας μας“.
URL:https://oxek.gr/event/%ce%bf%ce%bc%ce%b9%ce%bb%ce%af%ce%b1-%ce%ba-%ce%bc%ce%b9%ce%bb%cf%84%ce%b9%ce%ac%ce%b4%ce%b7-%cf%80%ce%ac%ce%bb%ce%bb%ce%b7/
LOCATION:Κτήριο ΟΧΕ\, Σουλίου 3\, Αθήνα\, Αττική\, 10681\, Ελλάδα
CATEGORIES:Κατηχητικά και Εκπαιδευτικά Προγράμματα
END:VEVENT
BEGIN:VEVENT
DTSTART;VALUE=DATE:20240114
DTEND;VALUE=DATE:20240115
DTSTAMP:20260421T183036
CREATED:20240219T122630Z
LAST-MODIFIED:20240606T180703Z
UID:167-1705190400-1705276799@oxek.gr
SUMMARY:Ομιλία Προέδρου Ο.Χ.Ε.
DESCRIPTION:Στις καθιερωμένες Κυριακάτικες ομιλίες που γίνονται στο κτίριο των ΟΧΕ της οδού Σουλίου 3\, για την έναρξη της νέας χρονιάς ο πρόεδρος των Ο.Χ.Ε. π. Ηλίας Δροσινός ανέπτυξε το θέμα “Περί προσευχής“.
URL:https://oxek.gr/event/%ce%bf%ce%bc%ce%b9%ce%bb%ce%af%ce%b1-%cf%80-%ce%b7%ce%bb%ce%af%ce%b1/
LOCATION:Κτήριο ΟΧΕ\, Σουλίου 3\, Αθήνα\, Αττική\, 10681\, Ελλάδα
CATEGORIES:Κατηχητικά και Εκπαιδευτικά Προγράμματα
END:VEVENT
BEGIN:VEVENT
DTSTART;VALUE=DATE:20240104
DTEND;VALUE=DATE:20240105
DTSTAMP:20260421T183036
CREATED:20240219T121540Z
LAST-MODIFIED:20240220T114644Z
UID:158-1704326400-1704412799@oxek.gr
SUMMARY:Κάλαντα στο Γηροκομείο Αθηνών
DESCRIPTION:Σε προγραμματισμένη επίσκεψη στο Γηροκομείο Αθηνών\, νέοι και μέλη των Ορθόδοξων Χριστιανικών Ενώσεων\, τραγούδησαν στους φιλοξενούμενους ανθρώπους της τρίτης ηλικίας τραγούδια και κάλαντα Χριστουγέννων και Πρωτοχρονιάς από διάφορα μέρη της Ελλάδος.
URL:https://oxek.gr/event/%ce%ba%ce%ac%ce%bb%ce%b1%ce%bd%cf%84%ce%b1-%cf%83%cf%84%ce%bf-%ce%b3%ce%b7%cf%81%ce%bf%ce%ba%ce%bf%ce%bc%ce%b5%ce%af%ce%bf-%ce%b1%ce%b8%ce%b7%ce%bd%cf%8e%ce%bd/
CATEGORIES:Εκδηλώσεις και Συναντήσεις
END:VEVENT
END:VCALENDAR